Workbook
Name _ftn1: 'All Data'!#REF!
Name _ftnref1: 'All Data'!#REF!

Sheet MFR - DO NOT EDIT
A2: MISSION | P2: Code
A3: Frostburg State University is a student-centered teaching and learning institution featuring experiential opportunities. The University offers students a distinctive and distinguished baccalaureate education along with a select set of applied master’s and doctoral programs. Frostburg serves regional and statewide economic and workforce development; promotes cultural enrichment, civic responsibility, and sustainability; and prepares future leaders to meet the challenges of a complex and changing global society.
A5: VISION
A6: Frostburg State University will be recognized as a student-centered teaching and learning institution. The University will be known nationally for its emphasis on experiential education, its commitment to sustainability, and for the quality of its graduates as critical thinkers, life-long learners, and technologically competent global citizens.
A8: KEY GOALS, OBJECTIVES, AND PERFORMANCE MEASURES
A10: Goal 1. | B10: Address Statewide and regional workforce needs by preparing a changing student population for an era of complexity and globalization.
B11: Obj. 1.1 | C11: Increase the number of STEM (science, technology, engineering, mathematics) program graduates from 150 in 2014 to 170 in 2019.
B12: Obj. 1.2 | C12: Increase the number of teacher education graduates above the 2014 level of 129 by 2019.
B13: Obj. 1.3 | C13: Increase the number of baccalaureate-level nursing graduates from 51 in 2014 to above 105 by 2019.
B14: Obj. 1.4 | C14: Through 2019 maintain the number of students enrolled in courses delivered off campus at a level equal to or greater than the 2014 level of 6,769.
C16: Performance Measures | H16: ='All Data'!$C$1-6&" Act." -> 2012 Act. | I16: ='All Data'!$C$1-5&" Act." -> 2013 Act. | J16: ='All Data'!$C$1-4&" Act." -> 2014 Act. | K16: ='All Data'!$C$1-3&" Act." -> 2015 Act. | L16: ='All Data'!$C$1-2&" Act." -> 2016 Act. | M16: ='All Data'!$C$1-1&" Est." -> 2017 Est. | N16: ='All Data'!$C$1-0&" Est." -> 2018 Est.
C17: =VLOOKUP($P17,'All Data'!$A$1:$AAC$9859,2,FALSE) -> Number of undergraduates enrolled in STEM programs | H17: =HLOOKUP(H$16,'All Data'!$C$5:$AC$9884,MATCH('MFR - DO NOT EDIT'!$P17,'All Data'!$A$5:$A$9884,0),TRUE) -> 721 | I17: =HLOOKUP(I$16,'All Data'!$C$5:$AC$9884,MATCH('MFR - DO NOT EDIT'!$P17,'All Data'!$A$5:$A$9884,0),TRUE) -> 752 | J17: =HLOOKUP(J$16,'All Data'!$C$5:$AC$9884,MATCH('MFR - DO NOT EDIT'!$P17,'All Data'!$A$5:$A$9884,0),TRUE) -> 858 | K17: =HLOOKUP(K$16,'All Data'!$C$5:$AC$9884,MATCH('MFR - DO NOT EDIT'!$P17,'All Data'!$A$5:$A$9884,0),TRUE) -> 913 | L17: =HLOOKUP(L$16,'All Data'!$C$5:$AC$9884,MATCH('MFR - DO NOT EDIT'!$P17,'All Data'!$A$5:$A$9884,0),TRUE) -> 949 | M17: =HLOOKUP(M$16,'All Data'!$C$5:$AC$9884,MATCH('MFR - DO NOT EDIT'!$P17,'All Data'!$A$5:$A$9884,0),TRUE) -> 925 | N17: =HLOOKUP(N$16,'All Data'!$C$5:$AC$9884,MATCH('MFR - DO NOT EDIT'!$P17,'All Data'!$A$5:$A$9884,0),TRUE) -> 950 | P17: M101
C18: =VLOOKUP($P18,'All Data'!$A$1:$AAC$9859,2,FALSE) -> Number of graduates of STEM programs (annually) | H18: =HLOOKUP(H$16,'All Data'!$C$5:$AC$9884,MATCH('MFR - DO NOT EDIT'!$P18,'All Data'!$A$5:$A$9884,0),TRUE) -> 111 | I18: =HLOOKUP(I$16,'All Data'!$C$5:$AC$9884,MATCH('MFR - DO NOT EDIT'!$P18,'All Data'!$A$5:$A$9884,0),TRUE) -> 114 | J18: =HLOOKUP(J$16,'All Data'!$C$5:$AC$9884,MATCH('MFR - DO NOT EDIT'!$P18,'All Data'!$A$5:$A$9884,0),TRUE) -> 150 | K18: =HLOOKUP(K$16,'All Data'!$C$5:$AC$9884,MATCH('MFR - DO NOT EDIT'!$P18,'All Data'!$A$5:$A$9884,0),TRUE) -> 140 | L18: =HLOOKUP(L$16,'All Data'!$C$5:$AC$9884,MATCH('MFR - DO NOT EDIT'!$P18,'All Data'!$A$5:$A$9884,0),TRUE) -> 128 | M18: =HLOOKUP(M$16,'All Data'!$C$5:$AC$9884,MATCH('MFR - DO NOT EDIT'!$P18,'All Data'!$A$5:$A$9884,0),TRUE) -> 130 | N18: =HLOOKUP(N$16,'All Data'!$C$5:$AC$9884,MATCH('MFR - DO NOT EDIT'!$P18,'All Data'!$A$5:$A$9884,0),TRUE) -> 140 | P18: M102
C19: =VLOOKUP($P19,'All Data'!$A$1:$AAC$9859,2,FALSE) -> Number of undergraduates and Master of Arts (MAT) post-bachelor’s enrolled in teacher education | H19: =HLOOKUP(H$16,'All Data'!$C$5:$AC$9884,MATCH('MFR - DO NOT EDIT'!$P19,'All Data'!$A$5:$A$9884,0),TRUE) -> 532 | I19: =HLOOKUP(I$16,'All Data'!$C$5:$AC$9884,MATCH('MFR - DO NOT EDIT'!$P19,'All Data'!$A$5:$A$9884,0),TRUE) -> 512 | J19: =HLOOKUP(J$16,'All Data'!$C$5:$AC$9884,MATCH('MFR - DO NOT EDIT'!$P19,'All Data'!$A$5:$A$9884,0),TRUE) -> 482 | K19: =HLOOKUP(K$16,'All Data'!$C$5:$AC$9884,MATCH('MFR - DO NOT EDIT'!$P19,'All Data'!$A$5:$A$9884,0),TRUE) -> 423 | L19: =HLOOKUP(L$16,'All Data'!$C$5:$AC$9884,MATCH('MFR - DO NOT EDIT'!$P19,'All Data'!$A$5:$A$9884,0),TRUE) -> 414 | M19: =HLOOKUP(M$16,'All Data'!$C$5:$AC$9884,MATCH('MFR - DO NOT EDIT'!$P19,'All Data'!$A$5:$A$9884,0),TRUE) -> 397 | N19: =HLOOKUP(N$16,'All Data'!$C$5:$AC$9884,MATCH('MFR - DO NOT EDIT'!$P19,'All Data'!$A$5:$A$9884,0),TRUE) -> 400 | P19: M103
C20: =VLOOKUP($P20,'All Data'!$A$1:$AAC$9859,2,FALSE) -> Number of undergraduates and MAT post-bachelor’s completing teacher training | H20: =HLOOKUP(H$16,'All Data'!$C$5:$AC$9884,MATCH('MFR - DO NOT EDIT'!$P20,'All Data'!$A$5:$A$9884,0),TRUE) -> 129 | I20: =HLOOKUP(I$16,'All Data'!$C$5:$AC$9884,MATCH('MFR - DO NOT EDIT'!$P20,'All Data'!$A$5:$A$9884,0),TRUE) -> 161 | J20: =HLOOKUP(J$16,'All Data'!$C$5:$AC$9884,MATCH('MFR - DO NOT EDIT'!$P20,'All Data'!$A$5:$A$9884,0),TRUE) -> 129 | K20: =HLOOKUP(K$16,'All Data'!$C$5:$AC$9884,MATCH('MFR - DO NOT EDIT'!$P20,'All Data'!$A$5:$A$9884,0),TRUE) -> 126 | L20: =HLOOKUP(L$16,'All Data'!$C$5:$AC$9884,MATCH('MFR - DO NOT EDIT'!$P20,'All Data'!$A$5:$A$9884,0),TRUE) -> 113 | M20: =HLOOKUP(M$16,'All Data'!$C$5:$AC$9884,MATCH('MFR - DO NOT EDIT'!$P20,'All Data'!$A$5:$A$9884,0),TRUE) -> 120 | N20: =HLOOKUP(N$16,'All Data'!$C$5:$AC$9884,MATCH('MFR - DO NOT EDIT'!$P20,'All Data'!$A$5:$A$9884,0),TRUE) -> 125 | P20: M104
C21: =VLOOKUP($P21,'All Data'!$A$1:$AAC$9859,2,FALSE) -> Pass rates for undergraduates and MAT post-bachelor’s on Praxis II exam | H21: =HLOOKUP(H$16,'All Data'!$C$5:$AC$9884,MATCH('MFR - DO NOT EDIT'!$P21,'All Data'!$A$5:$A$9884,0),TRUE) -> 0.95 | I21: =HLOOKUP(I$16,'All Data'!$C$5:$AC$9884,MATCH('MFR - DO NOT EDIT'!$P21,'All Data'!$A$5:$A$9884,0),TRUE) -> 0.97 | J21: =HLOOKUP(J$16,'All Data'!$C$5:$AC$9884,MATCH('MFR - DO NOT EDIT'!$P21,'All Data'!$A$5:$A$9884,0),TRUE) -> 0.96 | K21: =HLOOKUP(K$16,'All Data'!$C$5:$AC$9884,MATCH('MFR - DO NOT EDIT'!$P21,'All Data'!$A$5:$A$9884,0),TRUE) -> 0.97 | L21: =HLOOKUP(L$16,'All Data'!$C$5:$AC$9884,MATCH('MFR - DO NOT EDIT'!$P21,'All Data'!$A$5:$A$9884,0),TRUE) -> 0.98 | M21: =HLOOKUP(M$16,'All Data'!$C$5:$AC$9884,MATCH('MFR - DO NOT EDIT'!$P21,'All Data'!$A$5:$A$9884,0),TRUE) -> 0.98 | N21: =HLOOKUP(N$16,'All Data'!$C$5:$AC$9884,MATCH('MFR - DO NOT EDIT'!$P21,'All Data'!$A$5:$A$9884,0),TRUE) -> 0.98 | P21: M105
C22: =VLOOKUP($P22,'All Data'!$A$1:$AAC$9859,2,FALSE) -> Number of undergraduates enrolled in Nursing (RN to BSN) program | H22: =HLOOKUP(H$16,'All Data'!$C$5:$AC$9884,MATCH('MFR - DO NOT EDIT'!$P22,'All Data'!$A$5:$A$9884,0),TRUE) -> 32 | I22: =HLOOKUP(I$16,'All Data'!$C$5:$AC$9884,MATCH('MFR - DO NOT EDIT'!$P22,'All Data'!$A$5:$A$9884,0),TRUE) -> 100 | J22: =HLOOKUP(J$16,'All Data'!$C$5:$AC$9884,MATCH('MFR - DO NOT EDIT'!$P22,'All Data'!$A$5:$A$9884,0),TRUE) -> 224 | K22: =HLOOKUP(K$16,'All Data'!$C$5:$AC$9884,MATCH('MFR - DO NOT EDIT'!$P22,'All Data'!$A$5:$A$9884,0),TRUE) -> 375 | L22: =HLOOKUP(L$16,'All Data'!$C$5:$AC$9884,MATCH('MFR - DO NOT EDIT'!$P22,'All Data'!$A$5:$A$9884,0),TRUE) -> 457 | M22: =HLOOKUP(M$16,'All Data'!$C$5:$AC$9884,MATCH('MFR - DO NOT EDIT'!$P22,'All Data'!$A$5:$A$9884,0),TRUE) -> 446 | N22: =HLOOKUP(N$16,'All Data'!$C$5:$AC$9884,MATCH('MFR - DO NOT EDIT'!$P22,'All Data'!$A$5:$A$9884,0),TRUE) -> 460 | P22: M106
C23: =VLOOKUP($P23,'All Data'!$A$1:$AAC$9859,2,FALSE) -> Number of graduates of the Nursing (RN to BSN) program | H23: =HLOOKUP(H$16,'All Data'!$C$5:$AC$9884,MATCH('MFR - DO NOT EDIT'!$P23,'All Data'!$A$5:$A$9884,0),TRUE) -> 10 | I23: =HLOOKUP(I$16,'All Data'!$C$5:$AC$9884,MATCH('MFR - DO NOT EDIT'!$P23,'All Data'!$A$5:$A$9884,0),TRUE) -> 16 | J23: =HLOOKUP(J$16,'All Data'!$C$5:$AC$9884,MATCH('MFR - DO NOT EDIT'!$P23,'All Data'!$A$5:$A$9884,0),TRUE) -> 51 | K23: =HLOOKUP(K$16,'All Data'!$C$5:$AC$9884,MATCH('MFR - DO NOT EDIT'!$P23,'All Data'!$A$5:$A$9884,0),TRUE) -> 97 | L23: =HLOOKUP(L$16,'All Data'!$C$5:$AC$9884,MATCH('MFR - DO NOT EDIT'!$P23,'All Data'!$A$5:$A$9884,0),TRUE) -> 139 | M23: =HLOOKUP(M$16,'All Data'!$C$5:$AC$9884,MATCH('MFR - DO NOT EDIT'!$P23,'All Data'!$A$5:$A$9884,0),TRUE) -> 142 | N23: =HLOOKUP(N$16,'All Data'!$C$5:$AC$9884,MATCH('MFR - DO NOT EDIT'!$P23,'All Data'!$A$5:$A$9884,0),TRUE) -> 145 | P23: M107
C24: =VLOOKUP($P24,'All Data'!$A$1:$AAC$9859,2,FALSE) -> Number of Nursing (RN to BSN) program graduates employed in Maryland | H24: =HLOOKUP(H$16,'All Data'!$C$5:$AC$9884,MATCH('MFR - DO NOT EDIT'!$P24,'All Data'!$A$5:$A$9884,0),TRUE) -> 9 | I24: =HLOOKUP(I$16,'All Data'!$C$5:$AC$9884,MATCH('MFR - DO NOT EDIT'!$P24,'All Data'!$A$5:$A$9884,0),TRUE) -> 16 | J24: =HLOOKUP(J$16,'All Data'!$C$5:$AC$9884,MATCH('MFR - DO NOT EDIT'!$P24,'All Data'!$A$5:$A$9884,0),TRUE) -> 25 | K24: =HLOOKUP(K$16,'All Data'!$C$5:$AC$9884,MATCH('MFR - DO NOT EDIT'!$P24,'All Data'!$A$5:$A$9884,0),TRUE) -> 76 | L24: =HLOOKUP(L$16,'All Data'!$C$5:$AC$9884,MATCH('MFR - DO NOT EDIT'!$P24,'All Data'!$A$5:$A$9884,0),TRUE) -> 97 | M24: =HLOOKUP(M$16,'All Data'!$C$5:$AC$9884,MATCH('MFR - DO NOT EDIT'!$P24,'All Data'!$A$5:$A$9884,0),TRUE) -> 101 | N24: =HLOOKUP(N$16,'All Data'!$C$5:$AC$9884,MATCH('MFR - DO NOT EDIT'!$P24,'All Data'!$A$5:$A$9884,0),TRUE) -> 104 | P24: M108
C25: =VLOOKUP($P25,'All Data'!$A$1:$AAC$9859,2,FALSE) -> Number of annual off-campus course enrollments | H25: =HLOOKUP(H$16,'All Data'!$C$5:$AC$9884,MATCH('MFR - DO NOT EDIT'!$P25,'All Data'!$A$5:$A$9884,0),TRUE) -> 5144 | I25: =HLOOKUP(I$16,'All Data'!$C$5:$AC$9884,MATCH('MFR - DO NOT EDIT'!$P25,'All Data'!$A$5:$A$9884,0),TRUE) -> 5990 | J25: =HLOOKUP(J$16,'All Data'!$C$5:$AC$9884,MATCH('MFR - DO NOT EDIT'!$P25,'All Data'!$A$5:$A$9884,0),TRUE) -> 6769 | K25: =HLOOKUP(K$16,'All Data'!$C$5:$AC$9884,MATCH('MFR - DO NOT EDIT'!$P25,'All Data'!$A$5:$A$9884,0),TRUE) -> 7830 | L25: =HLOOKUP(L$16,'All Data'!$C$5:$AC$9884,MATCH('MFR - DO NOT EDIT'!$P25,'All Data'!$A$5:$A$9884,0),TRUE) -> 8268 | M25: =HLOOKUP(M$16,'All Data'!$C$5:$AC$9884,MATCH('MFR - DO NOT EDIT'!$P25,'All Data'!$A$5:$A$9884,0),TRUE) -> 8275 | N25: =HLOOKUP(N$16,'All Data'!$C$5:$AC$9884,MATCH('MFR - DO NOT EDIT'!$P25,'All Data'!$A$5:$A$9884,0),TRUE) -> 8280 | P25: M109
A27: Goal 2. | B27: Promote an institutional image of academic distinction and ensure stable institutional enrollment through admission of students prepared to succeed in college and persist to graduation.
B28: Obj. 2.1 | C28: Increase the second-year retention rate of all undergraduates from 77 percent in 2014 to 78 percent in 2019 and the six-year graduation rate from 56.0 percent in 2014 to 61.7 percent in 2019.
B29: Obj. 2.2 | C29: By 2019, maintain the percentage of African-American undergraduates at a level equal to or greater than the 2014 level of 27 percent.
B30: Obj. 2.3 | C30: By 2019, sustain the percentage of minority undergraduates at a level equal to or greater than the 2014 level of 36.5 percent.
B31: Obj. 2.4 | C31: Maintain the second-year retention rate of African-American students at a level equal to or greater than the 2014 level of 80 percent.
B32: Obj. 2.5 | C32: Attain and preserve a six-year graduation rate of African-American students at 54 percent through 2019.
B33: Obj. 2.6 | C33: Increase the second-year retention rate of minority students from 78 percent in 2014 to 80 percent in 2019.
B34: Obj. 2.7 | C34: Realize and maintain a six-year graduation rate for minority students of 52 percent through 2019.
B35: Obj. 2.8 | C35: Maintain the approximate percentage of economically disadvantaged students at 60 percent through 2017.
C37: Performance Measures | H37: ='All Data'!$C$1-6&" Act." -> 2012 Act. | I37: ='All Data'!$C$1-5&" Act." -> 2013 Act. | J37: ='All Data'!$C$1-4&" Act." -> 2014 Act. | K37: ='All Data'!$C$1-3&" Act." -> 2015 Act. | L37: ='All Data'!$C$1-2&" Act." -> 2016 Act. | M37: ='All Data'!$C$1-1&" Est." -> 2017 Est. | N37: ='All Data'!$C$1-0&" Est." -> 2018 Est.
C38: =VLOOKUP($P38,'All Data'!$A$1:$AAC$9859,2,FALSE) -> Second-year retention rate all students | H38: =HLOOKUP(H$16,'All Data'!$C$5:$AC$9884,MATCH('MFR - DO NOT EDIT'!$P38,'All Data'!$A$5:$A$9884,0),TRUE) -> 0.71 | I38: =HLOOKUP(I$16,'All Data'!$C$5:$AC$9884,MATCH('MFR - DO NOT EDIT'!$P38,'All Data'!$A$5:$A$9884,0),TRUE) -> 0.72 | J38: =HLOOKUP(J$16,'All Data'!$C$5:$AC$9884,MATCH('MFR - DO NOT EDIT'!$P38,'All Data'!$A$5:$A$9884,0),TRUE) -> 0.77 | K38: =HLOOKUP(K$16,'All Data'!$C$5:$AC$9884,MATCH('MFR - DO NOT EDIT'!$P38,'All Data'!$A$5:$A$9884,0),TRUE) -> 0.748 | L38: =HLOOKUP(L$16,'All Data'!$C$5:$AC$9884,MATCH('MFR - DO NOT EDIT'!$P38,'All Data'!$A$5:$A$9884,0),TRUE) -> 0.768 | M38: =HLOOKUP(M$16,'All Data'!$C$5:$AC$9884,MATCH('MFR - DO NOT EDIT'!$P38,'All Data'!$A$5:$A$9884,0),TRUE) -> 0.77 | N38: =HLOOKUP(N$16,'All Data'!$C$5:$AC$9884,MATCH('MFR - DO NOT EDIT'!$P38,'All Data'!$A$5:$A$9884,0),TRUE) -> 0.78 | P38: M201
C39: =VLOOKUP($P39,'All Data'!$A$1:$AAC$9859,2,FALSE) -> Six-year graduation rate all students | H39: =HLOOKUP(H$16,'All Data'!$C$5:$AC$9884,MATCH('MFR - DO NOT EDIT'!$P39,'All Data'!$A$5:$A$9884,0),TRUE) -> 0.53 | I39: =HLOOKUP(I$16,'All Data'!$C$5:$AC$9884,MATCH('MFR - DO NOT EDIT'!$P39,'All Data'!$A$5:$A$9884,0),TRUE) -> 0.526 | J39: =HLOOKUP(J$16,'All Data'!$C$5:$AC$9884,MATCH('MFR - DO NOT EDIT'!$P39,'All Data'!$A$5:$A$9884,0),TRUE) -> 0.56 | K39: =HLOOKUP(K$16,'All Data'!$C$5:$AC$9884,MATCH('MFR - DO NOT EDIT'!$P39,'All Data'!$A$5:$A$9884,0),TRUE) -> 0.556 | L39: =HLOOKUP(L$16,'All Data'!$C$5:$AC$9884,MATCH('MFR - DO NOT EDIT'!$P39,'All Data'!$A$5:$A$9884,0),TRUE) -> 0.617 | M39: =HLOOKUP(M$16,'All Data'!$C$5:$AC$9884,MATCH('MFR - DO NOT EDIT'!$P39,'All Data'!$A$5:$A$9884,0),TRUE) -> 0.62 | N39: =HLOOKUP(N$16,'All Data'!$C$5:$AC$9884,MATCH('MFR - DO NOT EDIT'!$P39,'All Data'!$A$5:$A$9884,0),TRUE) -> 0.63 | P39: M202
C40: =VLOOKUP($P40,'All Data'!$A$1:$AAC$9859,2,FALSE) -> Percent African-American (Fall undergraduate in fiscal year) | H40: =HLOOKUP(H$16,'All Data'!$C$5:$AC$9884,MATCH('MFR - DO NOT EDIT'!$P40,'All Data'!$A$5:$A$9884,0),TRUE) -> 0.244 | I40: =HLOOKUP(I$16,'All Data'!$C$5:$AC$9884,MATCH('MFR - DO NOT EDIT'!$P40,'All Data'!$A$5:$A$9884,0),TRUE) -> 0.25 | J40: =HLOOKUP(J$16,'All Data'!$C$5:$AC$9884,MATCH('MFR - DO NOT EDIT'!$P40,'All Data'!$A$5:$A$9884,0),TRUE) -> 0.27 | K40: =HLOOKUP(K$16,'All Data'!$C$5:$AC$9884,MATCH('MFR - DO NOT EDIT'!$P40,'All Data'!$A$5:$A$9884,0),TRUE) -> 0.29 | L40: =HLOOKUP(L$16,'All Data'!$C$5:$AC$9884,MATCH('MFR - DO NOT EDIT'!$P40,'All Data'!$A$5:$A$9884,0),TRUE) -> 0.308 | M40: =HLOOKUP(M$16,'All Data'!$C$5:$AC$9884,MATCH('MFR - DO NOT EDIT'!$P40,'All Data'!$A$5:$A$9884,0),TRUE) -> 0.31 | N40: =HLOOKUP(N$16,'All Data'!$C$5:$AC$9884,MATCH('MFR - DO NOT EDIT'!$P40,'All Data'!$A$5:$A$9884,0),TRUE) -> 0.315 | P40: M203
C41: =VLOOKUP($P41,'All Data'!$A$1:$AAC$9859,2,FALSE) -> Percent minority (Fall undergraduate in fiscal year) | H41: =HLOOKUP(H$16,'All Data'!$C$5:$AC$9884,MATCH('MFR - DO NOT EDIT'!$P41,'All Data'!$A$5:$A$9884,0),TRUE) -> 0.324 | I41: =HLOOKUP(I$16,'All Data'!$C$5:$AC$9884,MATCH('MFR - DO NOT EDIT'!$P41,'All Data'!$A$5:$A$9884,0),TRUE) -> 0.336 | J41: =HLOOKUP(J$16,'All Data'!$C$5:$AC$9884,MATCH('MFR - DO NOT EDIT'!$P41,'All Data'!$A$5:$A$9884,0),TRUE) -> 0.365 | K41: =HLOOKUP(K$16,'All Data'!$C$5:$AC$9884,MATCH('MFR - DO NOT EDIT'!$P41,'All Data'!$A$5:$A$9884,0),TRUE) -> 0.397 | L41: =HLOOKUP(L$16,'All Data'!$C$5:$AC$9884,MATCH('MFR - DO NOT EDIT'!$P41,'All Data'!$A$5:$A$9884,0),TRUE) -> 0.42 | M41: =HLOOKUP(M$16,'All Data'!$C$5:$AC$9884,MATCH('MFR - DO NOT EDIT'!$P41,'All Data'!$A$5:$A$9884,0),TRUE) -> 0.425 | N41: =HLOOKUP(N$16,'All Data'!$C$5:$AC$9884,MATCH('MFR - DO NOT EDIT'!$P41,'All Data'!$A$5:$A$9884,0),TRUE) -> 0.43 | P41: M204
C42: =VLOOKUP($P42,'All Data'!$A$1:$AAC$9859,2,FALSE) -> Second year retention rate for African-American students | H42: =HLOOKUP(H$16,'All Data'!$C$5:$AC$9884,MATCH('MFR - DO NOT EDIT'!$P42,'All Data'!$A$5:$A$9884,0),TRUE) -> 0.71 | I42: =HLOOKUP(I$16,'All Data'!$C$5:$AC$9884,MATCH('MFR - DO NOT EDIT'!$P42,'All Data'!$A$5:$A$9884,0),TRUE) -> 0.76 | J42: =HLOOKUP(J$16,'All Data'!$C$5:$AC$9884,MATCH('MFR - DO NOT EDIT'!$P42,'All Data'!$A$5:$A$9884,0),TRUE) -> 0.8 | K42: =HLOOKUP(K$16,'All Data'!$C$5:$AC$9884,MATCH('MFR - DO NOT EDIT'!$P42,'All Data'!$A$5:$A$9884,0),TRUE) -> 0.794 | L42: =HLOOKUP(L$16,'All Data'!$C$5:$AC$9884,MATCH('MFR - DO NOT EDIT'!$P42,'All Data'!$A$5:$A$9884,0),TRUE) -> 0.832 | M42: =HLOOKUP(M$16,'All Data'!$C$5:$AC$9884,MATCH('MFR - DO NOT EDIT'!$P42,'All Data'!$A$5:$A$9884,0),TRUE) -> 0.8 | N42: =HLOOKUP(N$16,'All Data'!$C$5:$AC$9884,MATCH('MFR - DO NOT EDIT'!$P42,'All Data'!$A$5:$A$9884,0),TRUE) -> 0.81 | P42: M205
C43: =VLOOKUP($P43,'All Data'!$A$1:$AAC$9859,2,FALSE) -> Six-year graduation rate for African-American students | H43: =HLOOKUP(H$16,'All Data'!$C$5:$AC$9884,MATCH('MFR - DO NOT EDIT'!$P43,'All Data'!$A$5:$A$9884,0),TRUE) -> 0.511 | I43: =HLOOKUP(I$16,'All Data'!$C$5:$AC$9884,MATCH('MFR - DO NOT EDIT'!$P43,'All Data'!$A$5:$A$9884,0),TRUE) -> 0.474 | J43: =HLOOKUP(J$16,'All Data'!$C$5:$AC$9884,MATCH('MFR - DO NOT EDIT'!$P43,'All Data'!$A$5:$A$9884,0),TRUE) -> 0.53 | K43: =HLOOKUP(K$16,'All Data'!$C$5:$AC$9884,MATCH('MFR - DO NOT EDIT'!$P43,'All Data'!$A$5:$A$9884,0),TRUE) -> 0.503 | L43: =HLOOKUP(L$16,'All Data'!$C$5:$AC$9884,MATCH('MFR - DO NOT EDIT'!$P43,'All Data'!$A$5:$A$9884,0),TRUE) -> 0.62 | M43: =HLOOKUP(M$16,'All Data'!$C$5:$AC$9884,MATCH('MFR - DO NOT EDIT'!$P43,'All Data'!$A$5:$A$9884,0),TRUE) -> 0.625 | N43: =HLOOKUP(N$16,'All Data'!$C$5:$AC$9884,MATCH('MFR - DO NOT EDIT'!$P43,'All Data'!$A$5:$A$9884,0),TRUE) -> 0.63 | P43: M206
C44: =VLOOKUP($P44,'All Data'!$A$1:$AAC$9859,2,FALSE) -> Second-year retention rate for minority students | H44: =HLOOKUP(H$16,'All Data'!$C$5:$AC$9884,MATCH('MFR - DO NOT EDIT'!$P44,'All Data'!$A$5:$A$9884,0),TRUE) -> 0.7 | I44: =HLOOKUP(I$16,'All Data'!$C$5:$AC$9884,MATCH('MFR - DO NOT EDIT'!$P44,'All Data'!$A$5:$A$9884,0),TRUE) -> 0.74 | J44: =HLOOKUP(J$16,'All Data'!$C$5:$AC$9884,MATCH('MFR - DO NOT EDIT'!$P44,'All Data'!$A$5:$A$9884,0),TRUE) -> 0.78 | K44: =HLOOKUP(K$16,'All Data'!$C$5:$AC$9884,MATCH('MFR - DO NOT EDIT'!$P44,'All Data'!$A$5:$A$9884,0),TRUE) -> 0.778 | L44: =HLOOKUP(L$16,'All Data'!$C$5:$AC$9884,MATCH('MFR - DO NOT EDIT'!$P44,'All Data'!$A$5:$A$9884,0),TRUE) -> 0.823 | M44: =HLOOKUP(M$16,'All Data'!$C$5:$AC$9884,MATCH('MFR - DO NOT EDIT'!$P44,'All Data'!$A$5:$A$9884,0),TRUE) -> 0.83 | N44: =HLOOKUP(N$16,'All Data'!$C$5:$AC$9884,MATCH('MFR - DO NOT EDIT'!$P44,'All Data'!$A$5:$A$9884,0),TRUE) -> 0.835 | P44: M207
C45: =VLOOKUP($P45,'All Data'!$A$1:$AAC$9859,2,FALSE) -> Six-year graduation rate for minority students | H45: =HLOOKUP(H$16,'All Data'!$C$5:$AC$9884,MATCH('MFR - DO NOT EDIT'!$P45,'All Data'!$A$5:$A$9884,0),TRUE) -> 0.479 | I45: =HLOOKUP(I$16,'All Data'!$C$5:$AC$9884,MATCH('MFR - DO NOT EDIT'!$P45,'All Data'!$A$5:$A$9884,0),TRUE) -> 0.463 | J45: =HLOOKUP(J$16,'All Data'!$C$5:$AC$9884,MATCH('MFR - DO NOT EDIT'!$P45,'All Data'!$A$5:$A$9884,0),TRUE) -> 0.526 | K45: =HLOOKUP(K$16,'All Data'!$C$5:$AC$9884,MATCH('MFR - DO NOT EDIT'!$P45,'All Data'!$A$5:$A$9884,0),TRUE) -> 0.501 | L45: =HLOOKUP(L$16,'All Data'!$C$5:$AC$9884,MATCH('MFR - DO NOT EDIT'!$P45,'All Data'!$A$5:$A$9884,0),TRUE) -> 0.619 | M45: =HLOOKUP(M$16,'All Data'!$C$5:$AC$9884,MATCH('MFR - DO NOT EDIT'!$P45,'All Data'!$A$5:$A$9884,0),TRUE) -> 0.62 | N45: =HLOOKUP(N$16,'All Data'!$C$5:$AC$9884,MATCH('MFR - DO NOT EDIT'!$P45,'All Data'!$A$5:$A$9884,0),TRUE) -> 0.63 | P45: M208
C46: =VLOOKUP($P46,'All Data'!$A$1:$AAC$9859,2,FALSE) -> Percent of economically disadvantaged students | H46: =HLOOKUP(H$16,'All Data'!$C$5:$AC$9884,MATCH('MFR - DO NOT EDIT'!$P46,'All Data'!$A$5:$A$9884,0),TRUE) -> 0.61 | I46: =HLOOKUP(I$16,'All Data'!$C$5:$AC$9884,MATCH('MFR - DO NOT EDIT'!$P46,'All Data'!$A$5:$A$9884,0),TRUE) -> 0.57 | J46: =HLOOKUP(J$16,'All Data'!$C$5:$AC$9884,MATCH('MFR - DO NOT EDIT'!$P46,'All Data'!$A$5:$A$9884,0),TRUE) -> 0.61 | K46: =HLOOKUP(K$16,'All Data'!$C$5:$AC$9884,MATCH('MFR - DO NOT EDIT'!$P46,'All Data'!$A$5:$A$9884,0),TRUE) -> 0.6 | L46: =HLOOKUP(L$16,'All Data'!$C$5:$AC$9884,MATCH('MFR - DO NOT EDIT'!$P46,'All Data'!$A$5:$A$9884,0),TRUE) -> 0.607 | M46: =HLOOKUP(M$16,'All Data'!$C$5:$AC$9884,MATCH('MFR - DO NOT EDIT'!$P46,'All Data'!$A$5:$A$9884,0),TRUE) -> 0.6 | N46: =HLOOKUP(N$16,'All Data'!$C$5:$AC$9884,MATCH('MFR - DO NOT EDIT'!$P46,'All Data'!$A$5:$A$9884,0),TRUE) -> 0.6 | P46: M209
A48: Goal 3. | B48: Recruit and retain diverse and talented faculty and staff committed to student learning and University goals.
...

Sheet All Data
B1: MFR SUBMISSION FOR FISCAL YEAR: | C1: 2018
B3: MFR Data
A4: Code | B4: Performance Measure | Y4: Program Code
C5: 1998 Act. | D5: 1999 Act. | E5: 2000 Act. | F5: 2001 Act. | G5: 2002 Act. | H5: 2003 Act. | I5: 2004 Act. | J5: 2005 Act. | K5: 2006 Act. | L5: 2007 Act. | M5: 2008 Act. | N5: 2009 Act. | O5: 2010 Act. | P5: 2011 Act. | Q5: 2012 Act. | R5: 2013 Act. | S5: 2014 Act. | T5: 2015 Act. | U5: 2016 Act. | V5: 2017 Est. | W5: 2018 Est. | X5: CY/FY/FFY? | Y5: (ex. X00A01.01) | Z5: Endnotes / Comments
A6: M101 | B6: Number of undergraduates enrolled in STEM programs | P6: 644 | Q6: 721 | R6: 752 | S6: 858 | T6: 913 | U6: 949 | V6: 925 | W6: 950 | X6: FY | Z6: PRAXIS II program completer cohorts are based on the degree year (DY) of August, December, January, and May; FY 2016 pass rate data = DY 2015, FY 2015 pass rate data = DY 2014; FY 2014 pass rate data = DY 2013, FY 2013 pass rate data = DY 2012.
A7: M102 | B7: Number of graduates of STEM programs (annually) | P7: 75 | Q7: 111 | R7: 114 | S7: 150 | T7: 140 | U7: 128 | V7: 130 | W7: 140 | X7: FY
A8: M103 | B8: Number of undergraduates and Master of Arts (MAT) post-bachelor’s enrolled in teacher education | P8: 573 | Q8: 532 | R8: 512 | S8: 482 | T8: 423 | U8: 414 | V8: 397 | W8: 400 | X8: FY
A9: M104 | B9: Number of undergraduates and MAT post-bachelor’s completing teacher training | P9: 161 | Q9: 129 | R9: 161 | S9: 129 | T9: 126 | U9: 113 | V9: 120 | W9: 125 | X9: FY
A10: M105 | B10: Pass rates for undergraduates and MAT post-bachelor’s on Praxis II exam | P10: 0.96 | Q10: 0.95 | R10: 0.97 | S10: 0.96 | T10: 0.97 | U10: 0.98 | V10: 0.98 | W10: 0.98 | X10: FY
A11: M106 | B11: Number of undergraduates enrolled in Nursing (RN to BSN) program | P11: 17 | Q11: 32 | R11: 100 | S11: 224 | T11: 375 | U11: 457 | V11: 446 | W11: 460 | X11: FY
A12: M107 | B12: Number of graduates of the Nursing (RN to BSN) program | P12: 4 | Q12: 10 | R12: 16 | S12: 51 | T12: 97 | U12: 139 | V12: 142 | W12: 145 | X12: FY
A13: M108 | B13: Number of Nursing (RN to BSN) program graduates employed in Maryland | P13: 4 | Q13: 9 | R13: 16 | S13: 25 | T13: 76 | U13: 97 | V13: 101 | W13: 104 | X13: FY
A14: M109 | B14: Number of annual off-campus course enrollments | P14: 4777 | Q14: 5144 | R14: 5990 | S14: 6769 | T14: 7830 | U14: 8268 | V14: 8275 | W14: 8280 | X14: FY | Z14: Off campus duplicative course enrollments for FY (summer, fall, and spring).
A16: M201 | B16: Second-year retention rate all students | I16: objectives for resolving trouble spots, providing timeliness of repair, | P16: 0.74 | Q16: 0.71 | R16: 0.72 | S16: 0.77 | T16: 0.748 | U16: 0.768 | V16: 0.77 | W16: 0.78 | X16: FY
A17: M202 | B17: Six-year graduation rate all students | P17: 0.563 | Q17: 0.53 | R17: 0.526 | S17: 0.56 | T17: 0.556 | U17: 0.617 | V17: 0.62 | W17: 0.63 | X17: FY
A18: M203 | B18: Percent African-American (Fall undergraduate in fiscal year) | P18: 0.232 | Q18: 0.244 | R18: 0.25 | S18: 0.27 | T18: 0.29 | U18: 0.308 | V18: 0.31 | W18: 0.315 | X18: FY
A19: M204 | B19: Percent minority (Fall undergraduate in fiscal year) | P19: 0.289 | Q19: 0.324 | R19: 0.336 | S19: 0.365 | T19: 0.397 | U19: 0.42 | V19: 0.425 | W19: 0.43 | X19: FY
A20: M205 | B20: Second year retention rate for African-American students | P20: 0.73 | Q20: 0.71 | R20: 0.76 | S20: 0.8 | T20: 0.794 | U20: 0.832 | V20: 0.8 | W20: 0.81 | X20: FY | Z20: using old method for comparison purposes
A21: M206 | B21: Six-year graduation rate for African-American students | P21: 0.497 | Q21: 0.511 | R21: 0.474 | S21: 0.53 | T21: 0.503 | U21: 0.62 | V21: 0.625 | W21: 0.63 | X21: FY
A22: M207 | B22: Second-year retention rate for minority students | I22: meeting appointments for installation, answering inquiries to | P22: 0.72 | Q22: 0.7 | R22: 0.74 | S22: 0.78 | T22: 0.778 | U22: 0.823 | V22: 0.83 | W22: 0.835 | X22: FY | Z22: using old method for comparison purposes
A23: M208 | B23: Six-year graduation rate for minority students | P23: 0.505 | Q23: 0.479 | R23: 0.463 | S23: 0.526 | T23: 0.501 | U23: 0.619 | V23: 0.62 | W23: 0.63 | X23: FY
A24: M209 | B24: Percent of economically disadvantaged students | P24: 0.57 | Q24: 0.61 | R24: 0.57 | S24: 0.61 | T24: 0.6 | U24: 0.607 | V24: 0.6 | W24: 0.6 | X24: FY
I25: business offices, and maintaining operability of pay telephones
A26: M301 | B26: Faculty diversity: Women (full-time faculty) | P26: 0.4 | Q26: 0.42 | R26: 0.41 | S26: 0.4 | T26: 0.41 | U26: 0.411 | V26: 0.415 | W26: 0.42 | X26: FY
A27: M302 | B27: African-American (full-time faculty) | P27: 0.037 | Q27: 0.036 | R27: 0.037 | S27: 0.036 | T27: 0.043 | U27: 0.048 | V27: 0.049 | W27: 0.05 | X27: FY
A28: M303 | B28: Achievement of professional accreditation by program | P28: 8 | Q28: 9 | R28: 9 | S28: 9 | T28: 9 | U28: 9 | V28: 10 | W28: 10 | X28: FY | Z28: Cumulative number of program accreditations at the University.
A29: M304 | B29: Satisfaction with education for work (triennial survey) | P29: 0.95 | Q29: N/A | R29: N/A | S29: 0.92 | T29: N/A | U29: N/A | V29: 0.95 | W29: N/A | X29: FY | Z29: Column headings used for this measure reflect the survey years in which the data were gathered. Data contained in the 2002, 2005, 2008, 2011, and 2014 columns are taken from the MHEC-sponsored Alumni Follow up Survey, which is now administered triennially to alumni who graduated the prior year (for instance the 2014 survey was of 2013 graduates, etc.).
A30: M305 | B30: Satisfaction with education for graduate or professional school (triennial survey) | P30: 0.94 | Q30: N/A | R30: N/A | S30: 1 | T30: N/A | U30: N/A | V30: 0.95 | W30: N/A | X30: FY | Z30: Column headings used for this measure reflect the survey years in which the data were gathered. Data contained in the 2002, 2005, 2008, 2011, and 2014 columns are taken from the MHEC-sponsored Alumni Follow up Survey, which is now administered triennially to alumni who graduated the prior year (for instance the 2014 survey was of 2013 graduates, etc.).
A32: M401 | B32: Percent of replacement cost expended in facility renewal | P32: 0.024 | Q32: 0.01 | R32: 0.011 | S32: 0.006 | T32: 0.005 | U32: 0.012 | V32: 0.014 | W32: 0.02 | X32: FY | Z32: FY 12 Reflects post September submission adjustment and is based upon updated information supplied by the USM office. FY 2013 and 2014 are Budgeted Only.
A33: M402 | B33: Rate of operating budget reallocation | P33: 0.04 | Q33: 0.03 | R33: 0.02 | S33: 0.02 | T33: 0.1 | U33: 0.03 | V33: 0.02 | W33: 0.02 | X33: FY
A35: M501 | B35: Headcount enrollment (Fall total in fiscal year) | P35: 5470 | Q35: 5429 | R35: 5421 | S35: 5474 | T35: 5645 | U35: 5756 | V35: 5802 | W35: 5848 | X35: FY
A36: M502 | B36: Number of graduates with a bachelor’s degree | P36: 850 | Q36: 892 | R36: 969 | S36: 1011 | T36: 1028 | U36: 963 | V36: 975 | W36: 980 | X36: FY
A37: M503 | B37: Number of graduates working in Maryland (triennial survey) | P37: 586 | Q37: N/A | R37: N/A | S37: 669 | T37: N/A | U37: N/A | V37: 700 | W37: N/A | X37: FY | Z37: Column headings used for this measure reflect the survey years in which the data were gathered. Data contained in the 2002, 2005, 2008, 2011, and 2014 columns are taken from the MHEC-sponsored Alumni Follow up Survey, which is now administered triennially to alumni who graduated the prior year (for instance the 2014 survey was of 2013 graduates, etc.).
A38: M504 | B38: Percent of graduates employed one year out (triennial survey) | P38: 0.9 | Q38: N/A | R38: N/A | S38: 0.8 | T38: N/A | U38: N/A | V38: 0.85 | W38: N/A | X38: FY | Z38: Column headings used for this measure reflect the survey years in which the data were gathered. Data contained in the 2002, 2005, 2008, 2011, and 2014 columns are taken from the MHEC-sponsored Alumni Follow up Survey, which is now administered triennially to alumni who graduated the prior year (for instance the 2014 survey was of 2013 graduates, etc.).
A39: M505 | B39: Median salary of graduates (triennial survey) | P39: 32500 | Q39: N/A | R39: N/A | S39: 35700 | T39: N/A | U39: N/A | V39: 37500 | W39: N/A | X39: FY | Z39: The weighted average of the mid point of the salary ranges. Column headings used for this measure reflect the survey years in which the data were gathered. Data contained in the 2002, 2005, 2008, 2011, and 2014 columns are taken from the MHEC-sponsored Alumni Follow up Survey, which is now administered triennially to alumni who graduated the prior year (for instance the 2014 survey was of 2013 graduates, etc.).
A40: M506 | B40: Number of initiatives | P40: 8 | Q40: 8 | R40: 9 | S40: 10 | T40: 11 | U40: 11 | V40: 12 | W40: 12 | X40: FY | Z40: Cumulative number of initiatives attracted to FSU.
A42: M601 | B42: Funds raised in annual giving ($ millions) | P42: 3.6 | Q42: 2 | R42: 2.1 | S42: 2.4 | T42: 2.16 | U42: 2.1 | V42: 2.4 | W42: 2.6 | X42: FY
A43: M602 | B43: Number of students involved in community outreach | P43: 3327 | Q43: 3535 | R43: 4055 | S43: 4121 | T43: 4260 | U43: 4566 | V43: 4600 | W43: 4650 | X43: FY | Z43: Number of students involved in community outreach is a duplicated count.
A44: M603 | B44: Number faculty awards | P44: 18 | Q44: 17 | R44: 23 | S44: 20 | T44: 14 | U44: 17 | V44: 18 | W44: 19 | X44: FY | Z44: Expented final when report is final
A45: M604 | B45: Course units taught by FTE core faculty | P45: 7.5 | Q45: 7.4 | R45: 7.4 | S45: 7.1 | T45: 7.5 | U45: 7.3 | V45: 7.4 | W45: 7.5 | X45: FY | Z45: Expected final when USM workload report final
...
